Package: Rarr Version: 1.11.5 Command: /Library/Frameworks/R.framework/Resources/bin/R CMD INSTALL Rarr StartedAt: 2025-11-14 15:08:42 -0500 (Fri, 14 Nov 2025) EndedAt: 2025-11-14 15:09:03 -0500 (Fri, 14 Nov 2025) EllapsedTime: 20.5 seconds RetCode: 0 Status: OK