Package: Rarr Version: 1.11.5 Command: /Library/Frameworks/R.framework/Resources/bin/R CMD build --keep-empty-dirs --no-resave-data Rarr StartedAt: 2025-11-14 17:22:49 -0500 (Fri, 14 Nov 2025) EndedAt: 2025-11-14 17:23:29 -0500 (Fri, 14 Nov 2025) EllapsedTime: 40.5 seconds RetCode: 0 Status: OK PackageFile: Rarr_1.11.5.tar.gz PackageFileSize: 1.653 MiB