Package: Rarr Version: 1.11.5 Command: rm -rf Rarr.buildbin-libdir && mkdir Rarr.buildbin-libdir && /Users/biocbuild/BBS/utils/build-universal.sh Rarr_1.11.5.tar.gz /Library/Frameworks/R.framework/Resources/bin/R Rarr.buildbin-libdir StartedAt: 2025-11-18 23:54:58 -0500 (Tue, 18 Nov 2025) EndedAt: 2025-11-18 23:55:26 -0500 (Tue, 18 Nov 2025) EllapsedTime: 27.7 seconds RetCode: 0 Status: OK PackageFile: Rarr_1.11.5.tgz PackageFileSize: 1.65 MiB