Package: RareVariantVis Version: 2.39.0 Command: /Library/Frameworks/R.framework/Resources/bin/R CMD INSTALL RareVariantVis StartedAt: 2025-11-13 15:34:00 -0500 (Thu, 13 Nov 2025) EndedAt: 2025-11-13 15:34:19 -0500 (Thu, 13 Nov 2025) EllapsedTime: 18.4 seconds RetCode: 0 Status: OK