Package: RareVariantVis Version: 2.39.0 Maintainer: Tomasz Stokowy MaintainerEmail: tomasz.stokowy at k2.uib.no git_url: https://git.bioconductor.org/packages/RareVariantVis git_branch: devel git_last_commit: 8b234dc git_last_commit_date: 2025-10-29 10:26:20 -0500 (Wed, 29 Oct 2025)