Package: RankProd Version: 3.37.0 Command: /Library/Frameworks/R.framework/Resources/bin/R CMD INSTALL RankProd StartedAt: 2025-11-13 15:02:28 -0500 (Thu, 13 Nov 2025) EndedAt: 2025-11-13 15:02:38 -0500 (Thu, 13 Nov 2025) EllapsedTime: 10.5 seconds RetCode: 0 Status: OK