Package: RankProd Version: 3.37.0 Command: /Library/Frameworks/R.framework/Resources/bin/R CMD build --keep-empty-dirs --no-resave-data RankProd StartedAt: 2025-11-13 17:25:41 -0500 (Thu, 13 Nov 2025) EndedAt: 2025-11-13 17:25:48 -0500 (Thu, 13 Nov 2025) EllapsedTime: 7.1 seconds RetCode: 0 Status: OK PackageFile: RankProd_3.37.0.tar.gz PackageFileSize: 777.1 KiB