Package: RankProd Version: 3.37.0 Command: rm -rf RankProd.buildbin-libdir && mkdir RankProd.buildbin-libdir && /Users/biocbuild/BBS/utils/build-universal.sh RankProd_3.37.0.tar.gz /Library/Frameworks/R.framework/Resources/bin/R RankProd.buildbin-libdir StartedAt: 2025-11-14 23:46:59 -0500 (Fri, 14 Nov 2025) EndedAt: 2025-11-14 23:47:02 -0500 (Fri, 14 Nov 2025) EllapsedTime: 3.1 seconds RetCode: 0 Status: OK PackageFile: RankProd_3.37.0.tgz PackageFileSize: 877.6 KiB