Package: RaggedExperiment Version: 1.35.0 Command: /Library/Frameworks/R.framework/Resources/bin/R CMD INSTALL RaggedExperiment StartedAt: 2025-11-14 15:12:00 -0500 (Fri, 14 Nov 2025) EndedAt: 2025-11-14 15:12:09 -0500 (Fri, 14 Nov 2025) EllapsedTime: 8.8 seconds RetCode: 0 Status: OK