Package: RaggedExperiment Version: 1.35.0 Command: /Library/Frameworks/R.framework/Resources/bin/R CMD build --keep-empty-dirs --no-resave-data RaggedExperiment StartedAt: 2025-11-14 17:22:26 -0500 (Fri, 14 Nov 2025) EndedAt: 2025-11-14 17:22:42 -0500 (Fri, 14 Nov 2025) EllapsedTime: 16.2 seconds RetCode: 0 Status: OK PackageFile: RaggedExperiment_1.35.0.tar.gz PackageFileSize: 656.7 KiB