Package: RaggedExperiment Version: 1.35.0 Command: rm -rf RaggedExperiment.buildbin-libdir && mkdir RaggedExperiment.buildbin-libdir && /Users/biocbuild/BBS/utils/build-universal.sh RaggedExperiment_1.35.0.tar.gz /Library/Frameworks/R.framework/Resources/bin/R RaggedExperiment.buildbin-libdir StartedAt: 2025-11-18 00:47:56 -0500 (Tue, 18 Nov 2025) EndedAt: 2025-11-18 00:48:08 -0500 (Tue, 18 Nov 2025) EllapsedTime: 12.3 seconds RetCode: 0 Status: OK PackageFile: RaggedExperiment_1.35.0.tgz PackageFileSize: 1.185 MiB