Package: RVS Version: 1.33.0 Command: /Library/Frameworks/R.framework/Resources/bin/R CMD INSTALL RVS StartedAt: 2025-11-23 15:07:09 -0500 (Sun, 23 Nov 2025) EndedAt: 2025-11-23 15:07:12 -0500 (Sun, 23 Nov 2025) EllapsedTime: 3.8 seconds RetCode: 0 Status: OK