Package: RVS Version: 1.33.0 Command: /Library/Frameworks/R.framework/Resources/bin/R CMD build --keep-empty-dirs --no-resave-data RVS StartedAt: 2025-11-23 17:32:51 -0500 (Sun, 23 Nov 2025) EndedAt: 2025-11-23 17:33:44 -0500 (Sun, 23 Nov 2025) EllapsedTime: 52.7 seconds RetCode: 0 Status: OK PackageFile: RVS_1.33.0.tar.gz PackageFileSize: 570.3 KiB