Package: RVS Version: 1.33.0 Command: rm -rf RVS.buildbin-libdir && mkdir RVS.buildbin-libdir && /Users/biocbuild/BBS/utils/build-universal.sh RVS_1.33.0.tar.gz /Library/Frameworks/R.framework/Resources/bin/R RVS.buildbin-libdir StartedAt: 2025-11-23 23:52:40 -0500 (Sun, 23 Nov 2025) EndedAt: 2025-11-23 23:52:46 -0500 (Sun, 23 Nov 2025) EllapsedTime: 5.1 seconds RetCode: 0 Status: OK PackageFile: RVS_1.33.0.tgz PackageFileSize: 694.4 KiB