Package: RUVnormalize Version: 1.45.0 Command: /home/biocbuild/bbs-3.23-bioc/R/bin/R CMD INSTALL RUVnormalize StartedAt: 2025-11-11 16:01:24 -0500 (Tue, 11 Nov 2025) EndedAt: 2025-11-11 16:01:28 -0500 (Tue, 11 Nov 2025) EllapsedTime: 3.4 seconds RetCode: 0 Status: OK