Package: RUVnormalize Version: 1.45.0 Command: /home/biocbuild/bbs-3.23-bioc/R/bin/R CMD build --keep-empty-dirs --no-resave-data RUVnormalize StartedAt: 2025-11-11 19:50:45 -0500 (Tue, 11 Nov 2025) EndedAt: 2025-11-11 19:50:59 -0500 (Tue, 11 Nov 2025) EllapsedTime: 14.0 seconds RetCode: 0 Status: OK PackageFile: RUVnormalize_1.45.0.tar.gz PackageFileSize: 191.2 KiB