Package: RUVnormalize Version: 1.45.0 Command: /Library/Frameworks/R.framework/Resources/bin/R CMD build --keep-empty-dirs --no-resave-data RUVnormalize StartedAt: 2025-11-12 17:07:41 -0500 (Wed, 12 Nov 2025) EndedAt: 2025-11-12 17:07:50 -0500 (Wed, 12 Nov 2025) EllapsedTime: 8.1 seconds RetCode: 0 Status: OK PackageFile: RUVnormalize_1.45.0.tar.gz PackageFileSize: 190.8 KiB