Package: RUVnormalize Version: 1.45.0 Maintainer: Laurent Jacob MaintainerEmail: laurent.jacob at univ-lyon1.fr git_url: https://git.bioconductor.org/packages/RUVnormalize git_branch: devel git_last_commit: 0a376e3 git_last_commit_date: 2025-10-29 10:20:50 -0500 (Wed, 29 Oct 2025)