Package: RUVcorr Version: 1.43.0 Command: /home/biocbuild/bbs-3.23-bioc/R/bin/R CMD INSTALL RUVcorr StartedAt: 2025-11-13 15:12:42 -0500 (Thu, 13 Nov 2025) EndedAt: 2025-11-13 15:12:47 -0500 (Thu, 13 Nov 2025) EllapsedTime: 4.8 seconds RetCode: 0 Status: OK