Package: RUVcorr Version: 1.43.0 Command: /Library/Frameworks/R.framework/Resources/bin/R CMD build --keep-empty-dirs --no-resave-data RUVcorr StartedAt: 2025-11-12 17:07:41 -0500 (Wed, 12 Nov 2025) EndedAt: 2025-11-12 17:08:03 -0500 (Wed, 12 Nov 2025) EllapsedTime: 21.3 seconds RetCode: 0 Status: OK PackageFile: RUVcorr_1.43.0.tar.gz PackageFileSize: 672.6 KiB