Package: RUVcorr Version: 1.43.0 Maintainer: Saskia Freytag MaintainerEmail: saskia.freytag at perkins.uwa.edu.au git_url: https://git.bioconductor.org/packages/RUVcorr git_branch: devel git_last_commit: 9b61201 git_last_commit_date: 2025-10-29 10:25:20 -0500 (Wed, 29 Oct 2025)