Package: RUVSeq Version: 1.45.0 Command: /home/biocbuild/bbs-3.23-bioc/R/bin/R CMD build --keep-empty-dirs --no-resave-data RUVSeq StartedAt: 2025-11-14 19:45:54 -0500 (Fri, 14 Nov 2025) EndedAt: 2025-11-14 19:47:32 -0500 (Fri, 14 Nov 2025) EllapsedTime: 98.2 seconds RetCode: 0 Status: OK PackageFile: RUVSeq_1.45.0.tar.gz PackageFileSize: 500.7 KiB