Package: RTopper Version: 1.57.0 Command: /Library/Frameworks/R.framework/Resources/bin/R CMD INSTALL RTopper StartedAt: 2025-11-13 15:07:17 -0500 (Thu, 13 Nov 2025) EndedAt: 2025-11-13 15:07:19 -0500 (Thu, 13 Nov 2025) EllapsedTime: 2.7 seconds RetCode: 0 Status: OK