Package: RTopper Version: 1.57.0 Command: /Library/Frameworks/R.framework/Resources/bin/R CMD build --keep-empty-dirs --no-resave-data RTopper StartedAt: 2025-11-12 17:07:10 -0500 (Wed, 12 Nov 2025) EndedAt: 2025-11-12 17:07:41 -0500 (Wed, 12 Nov 2025) EllapsedTime: 31.3 seconds RetCode: 0 Status: OK PackageFile: RTopper_1.57.0.tar.gz PackageFileSize: 1.348 MiB