Package: RTopper Version: 1.57.0 Command: rm -rf RTopper.buildbin-libdir && mkdir RTopper.buildbin-libdir && /Users/biocbuild/BBS/utils/build-universal.sh RTopper_1.57.0.tar.gz /Library/Frameworks/R.framework/Resources/bin/R RTopper.buildbin-libdir StartedAt: 2025-11-12 21:09:31 -0500 (Wed, 12 Nov 2025) EndedAt: 2025-11-12 21:09:35 -0500 (Wed, 12 Nov 2025) EllapsedTime: 4.1 seconds RetCode: 0 Status: OK PackageFile: RTopper_1.57.0.tgz PackageFileSize: 1.376 MiB