Package: RTopper Version: 1.57.0 Maintainer: Luigi Marchionni MaintainerEmail: marchion at jhu.edu git_url: https://git.bioconductor.org/packages/RTopper git_branch: devel git_last_commit: cedb1d4 git_last_commit_date: 2025-10-29 10:08:47 -0500 (Wed, 29 Oct 2025)