Package: RTCGAToolbox Version: 2.41.0 Command: /home/biocbuild/bbs-3.23-bioc/R/bin/R CMD check --install=check:RTCGAToolbox.install-out.txt --library=/home/biocbuild/bbs-3.23-bioc/R/site-library --timings RTCGAToolbox_2.41.0.tar.gz StartedAt: 2025-11-15 03:31:37 -0500 (Sat, 15 Nov 2025) EndedAt: 2025-11-15 03:35:18 -0500 (Sat, 15 Nov 2025) EllapsedTime: 221.3 seconds RetCode: 0 Status: OK CheckDir: RTCGAToolbox.Rcheck Warnings: 0