Package: RTCGAToolbox Version: 2.41.0 Command: /Library/Frameworks/R.framework/Resources/bin/R CMD INSTALL RTCGAToolbox StartedAt: 2025-11-13 15:23:57 -0500 (Thu, 13 Nov 2025) EndedAt: 2025-11-13 15:24:07 -0500 (Thu, 13 Nov 2025) EllapsedTime: 9.6 seconds RetCode: 0 Status: OK