Package: RTCGA Version: 1.41.0 Command: /home/biocbuild/bbs-3.23-bioc/R/bin/R CMD INSTALL RTCGA StartedAt: 2025-11-13 15:11:07 -0500 (Thu, 13 Nov 2025) EndedAt: 2025-11-13 15:11:19 -0500 (Thu, 13 Nov 2025) EllapsedTime: 12.2 seconds RetCode: 0 Status: OK