Package: RTCGA Version: 1.41.0 Command: /Library/Frameworks/R.framework/Resources/bin/R CMD INSTALL RTCGA StartedAt: 2025-11-13 15:06:16 -0500 (Thu, 13 Nov 2025) EndedAt: 2025-11-13 15:06:21 -0500 (Thu, 13 Nov 2025) EllapsedTime: 5.0 seconds RetCode: 0 Status: OK