Package: RTCGA Version: 1.41.0 Command: /Library/Frameworks/R.framework/Resources/bin/R CMD build --keep-empty-dirs --no-resave-data RTCGA StartedAt: 2025-11-13 17:33:17 -0500 (Thu, 13 Nov 2025) EndedAt: 2025-11-13 17:33:23 -0500 (Thu, 13 Nov 2025) EllapsedTime: 6.1 seconds RetCode: 0 Status: OK PackageFile: RTCGA_1.41.0.tar.gz PackageFileSize: 2.437 MiB