Package: RTCGA Version: 1.41.0 Command: rm -rf RTCGA.buildbin-libdir && mkdir RTCGA.buildbin-libdir && /Users/biocbuild/BBS/utils/build-universal.sh RTCGA_1.41.0.tar.gz /Library/Frameworks/R.framework/Resources/bin/R RTCGA.buildbin-libdir StartedAt: 2025-11-14 23:49:25 -0500 (Fri, 14 Nov 2025) EndedAt: 2025-11-14 23:49:31 -0500 (Fri, 14 Nov 2025) EllapsedTime: 6.1 seconds RetCode: 0 Status: OK PackageFile: RTCGA_1.41.0.tgz PackageFileSize: 2.535 MiB