Package: RTCGA Version: 1.41.0 Maintainer: Marcin Kosinski MaintainerEmail: m.p.kosinski at gmail.com git_url: https://git.bioconductor.org/packages/RTCGA git_branch: devel git_last_commit: 6827c37 git_last_commit_date: 2025-10-29 10:27:46 -0500 (Wed, 29 Oct 2025)