Package: RTCA Version: 1.63.0 Command: /home/biocbuild/bbs-3.23-bioc/R/bin/R CMD INSTALL RTCA StartedAt: 2025-11-13 15:12:05 -0500 (Thu, 13 Nov 2025) EndedAt: 2025-11-13 15:12:09 -0500 (Thu, 13 Nov 2025) EllapsedTime: 4.5 seconds RetCode: 0 Status: OK