Package: RTCA Version: 1.63.0 Command: /Library/Frameworks/R.framework/Resources/bin/R CMD INSTALL RTCA StartedAt: 2025-11-14 15:07:18 -0500 (Fri, 14 Nov 2025) EndedAt: 2025-11-14 15:07:21 -0500 (Fri, 14 Nov 2025) EllapsedTime: 2.8 seconds RetCode: 0 Status: OK