Package: RTCA Version: 1.63.0 Command: /Library/Frameworks/R.framework/Resources/bin/R CMD build --keep-empty-dirs --no-resave-data RTCA StartedAt: 2025-11-14 17:30:20 -0500 (Fri, 14 Nov 2025) EndedAt: 2025-11-14 17:30:27 -0500 (Fri, 14 Nov 2025) EllapsedTime: 7.1 seconds RetCode: 0 Status: OK PackageFile: RTCA_1.63.0.tar.gz PackageFileSize: 335.7 KiB