Package: RTCA Version: 1.63.0 Command: rm -rf RTCA.buildbin-libdir && mkdir RTCA.buildbin-libdir && /Users/biocbuild/BBS/utils/build-universal.sh RTCA_1.63.0.tar.gz /Library/Frameworks/R.framework/Resources/bin/R RTCA.buildbin-libdir StartedAt: 2025-11-13 23:54:10 -0500 (Thu, 13 Nov 2025) EndedAt: 2025-11-13 23:54:13 -0500 (Thu, 13 Nov 2025) EllapsedTime: 3.0 seconds RetCode: 0 Status: OK PackageFile: RTCA_1.63.0.tgz PackageFileSize: 596.4 KiB