Package: RTCA Version: 1.63.0 Maintainer: Jitao David Zhang MaintainerEmail: davidvonpku at gmail.com git_url: https://git.bioconductor.org/packages/RTCA git_branch: devel git_last_commit: d713410 git_last_commit_date: 2025-10-29 10:03:37 -0500 (Wed, 29 Oct 2025)