Package: RSeqAn Version: 1.31.0 Command: /home/biocbuild/bbs-3.23-bioc/R/bin/R CMD INSTALL RSeqAn StartedAt: 2025-11-14 15:03:18 -0500 (Fri, 14 Nov 2025) EndedAt: 2025-11-14 15:03:34 -0500 (Fri, 14 Nov 2025) EllapsedTime: 15.8 seconds RetCode: 0 Status: OK