Package: RSeqAn Version: 1.31.0 Command: rm -rf RSeqAn.buildbin-libdir && mkdir RSeqAn.buildbin-libdir && /Users/biocbuild/BBS/utils/build-universal.sh RSeqAn_1.31.0.tar.gz /Library/Frameworks/R.framework/Resources/bin/R RSeqAn.buildbin-libdir StartedAt: 2025-11-13 23:54:08 -0500 (Thu, 13 Nov 2025) EndedAt: 2025-11-13 23:54:14 -0500 (Thu, 13 Nov 2025) EllapsedTime: 6.1 seconds RetCode: 0 Status: OK PackageFile: RSeqAn_1.31.0.tgz PackageFileSize: 1.713 MiB