Package: RSeqAn Version: 1.31.0 Maintainer: August Guang MaintainerEmail: august.guang at gmail.com git_url: https://git.bioconductor.org/packages/RSeqAn git_branch: devel git_last_commit: f1d8c09 git_last_commit_date: 2025-10-29 10:44:51 -0500 (Wed, 29 Oct 2025)