Package: RSVSim Version: 1.51.0 Command: /home/biocbuild/bbs-3.23-bioc/R/bin/R CMD INSTALL RSVSim StartedAt: 2025-11-14 15:53:00 -0500 (Fri, 14 Nov 2025) EndedAt: 2025-11-14 15:53:31 -0500 (Fri, 14 Nov 2025) EllapsedTime: 30.6 seconds RetCode: 0 Status: OK