Package: RSVSim Version: 1.51.0 Command: /home/biocbuild/bbs-3.23-bioc/R/bin/R CMD build --keep-empty-dirs --no-resave-data RSVSim StartedAt: 2025-11-13 19:43:51 -0500 (Thu, 13 Nov 2025) EndedAt: 2025-11-13 19:44:42 -0500 (Thu, 13 Nov 2025) EllapsedTime: 51.1 seconds RetCode: 0 Status: OK PackageFile: RSVSim_1.51.0.tar.gz PackageFileSize: 505 KiB