Package: RSVSim Version: 1.51.0 Command: /Library/Frameworks/R.framework/Resources/bin/R CMD build --keep-empty-dirs --no-resave-data RSVSim StartedAt: 2025-11-13 17:33:11 -0500 (Thu, 13 Nov 2025) EndedAt: 2025-11-13 17:33:33 -0500 (Thu, 13 Nov 2025) EllapsedTime: 22.3 seconds RetCode: 0 Status: OK PackageFile: RSVSim_1.51.0.tar.gz PackageFileSize: 505 KiB