Package: RSVSim Version: 1.51.0 Maintainer: Christoph Bartenhagen MaintainerEmail: c.bartenhagen at uni-koeln.de git_url: https://git.bioconductor.org/packages/RSVSim git_branch: devel git_last_commit: d131b77 git_last_commit_date: 2025-10-29 10:13:10 -0500 (Wed, 29 Oct 2025)