Package: RProtoBufLib Version: 2.23.0 Command: /home/biocbuild/bbs-3.23-bioc/R/bin/R CMD INSTALL RProtoBufLib StartedAt: 2025-11-13 15:02:46 -0500 (Thu, 13 Nov 2025) EndedAt: 2025-11-13 15:07:28 -0500 (Thu, 13 Nov 2025) EllapsedTime: 282.2 seconds RetCode: 0 Status: OK