Package: RProtoBufLib Version: 2.23.0 Command: /home/biocbuild/bbs-3.23-bioc/R/bin/R CMD check --install=check:RProtoBufLib.install-out.txt --library=/home/biocbuild/bbs-3.23-bioc/R/site-library --timings RProtoBufLib_2.23.0.tar.gz StartedAt: 2025-11-22 03:23:01 -0500 (Sat, 22 Nov 2025) EndedAt: 2025-11-22 03:23:17 -0500 (Sat, 22 Nov 2025) EllapsedTime: 16.0 seconds RetCode: 0 Status: WARNINGS CheckDir: RProtoBufLib.Rcheck Warnings: 2