Package: RProtoBufLib Version: 2.23.0 Command: /home/biocbuild/bbs-3.23-bioc/R/bin/R CMD build --keep-empty-dirs --no-resave-data RProtoBufLib StartedAt: 2025-11-13 19:42:54 -0500 (Thu, 13 Nov 2025) EndedAt: 2025-11-13 19:47:30 -0500 (Thu, 13 Nov 2025) EllapsedTime: 275.4 seconds RetCode: 0 Status: OK PackageFile: RProtoBufLib_2.23.0.tar.gz PackageFileSize: 2.84 MiB