Package: RProtoBufLib Version: 2.23.0 Command: /Library/Frameworks/R.framework/Resources/bin/R CMD INSTALL RProtoBufLib StartedAt: 2025-11-13 15:01:43 -0500 (Thu, 13 Nov 2025) EndedAt: 2025-11-13 15:03:06 -0500 (Thu, 13 Nov 2025) EllapsedTime: 83.1 seconds RetCode: 0 Status: OK