Package: RProtoBufLib Version: 2.23.0 Command: /Library/Frameworks/R.framework/Resources/bin/R CMD build --keep-empty-dirs --no-resave-data RProtoBufLib StartedAt: 2025-11-13 17:32:34 -0500 (Thu, 13 Nov 2025) EndedAt: 2025-11-13 17:34:05 -0500 (Thu, 13 Nov 2025) EllapsedTime: 91.0 seconds RetCode: 0 Status: OK PackageFile: RProtoBufLib_2.23.0.tar.gz PackageFileSize: 2.796 MiB